BEGIN:VCALENDAR
VERSION:2.0
PRODID:-//Inland Empire Therapy Dogs - ECPv6.15.20//NONSGML v1.0//EN
CALSCALE:GREGORIAN
METHOD:PUBLISH
X-WR-CALNAME:Inland Empire Therapy Dogs
X-ORIGINAL-URL:https://inlandempiretherapydogs.org
X-WR-CALDESC:Events for Inland Empire Therapy Dogs
REFRESH-INTERVAL;VALUE=DURATION:PT1H
X-Robots-Tag:noindex
X-PUBLISHED-TTL:PT1H
BEGIN:VTIMEZONE
TZID:America/Los_Angeles
BEGIN:DAYLIGHT
TZOFFSETFROM:-0800
TZOFFSETTO:-0700
TZNAME:PDT
DTSTART:20250309T100000
END:DAYLIGHT
BEGIN:STANDARD
TZOFFSETFROM:-0700
TZOFFSETTO:-0800
TZNAME:PST
DTSTART:20251102T090000
END:STANDARD
BEGIN:DAYLIGHT
TZOFFSETFROM:-0800
TZOFFSETTO:-0700
TZNAME:PDT
DTSTART:20260308T100000
END:DAYLIGHT
BEGIN:STANDARD
TZOFFSETFROM:-0700
TZOFFSETTO:-0800
TZNAME:PST
DTSTART:20261101T090000
END:STANDARD
BEGIN:DAYLIGHT
TZOFFSETFROM:-0800
TZOFFSETTO:-0700
TZNAME:PDT
DTSTART:20270314T100000
END:DAYLIGHT
BEGIN:STANDARD
TZOFFSETFROM:-0700
TZOFFSETTO:-0800
TZNAME:PST
DTSTART:20271107T090000
END:STANDARD
END:VTIMEZONE
BEGIN:VEVENT
DTSTART;TZID=America/Los_Angeles:20260420T113000
DTEND;TZID=America/Los_Angeles:20260420T123000
DTSTAMP:20260420T074040
CREATED:20260308T215711Z
LAST-MODIFIED:20260308T223748Z
UID:44031-1776684600-1776688200@inlandempiretherapydogs.org
SUMMARY:Victoria Groves Elem. Rancho Cucamonga
DESCRIPTION:Visit with students
URL:https://inlandempiretherapydogs.org/event/victoria-groves-elem-rancho-cucamonga/
LOCATION:Victoria Groves Elementary\, 10950 Emerson St\,\, Rancho Cucamonga\, CA\, 91701\, United States
END:VEVENT
END:VCALENDAR